BEGIN:VCALENDAR
VERSION:2.0
PRODID:-//Ridgewood Presbyterian Church - ECPv6.15.20//NONSGML v1.0//EN
CALSCALE:GREGORIAN
METHOD:PUBLISH
X-WR-CALNAME:Ridgewood Presbyterian Church
X-ORIGINAL-URL:https://www.ridgewoodpc.org
X-WR-CALDESC:Events for Ridgewood Presbyterian Church
REFRESH-INTERVAL;VALUE=DURATION:PT1H
X-Robots-Tag:noindex
X-PUBLISHED-TTL:PT1H
BEGIN:VTIMEZONE
TZID:America/New_York
BEGIN:DAYLIGHT
TZOFFSETFROM:-0500
TZOFFSETTO:-0400
TZNAME:EDT
DTSTART:20250309T070000
END:DAYLIGHT
BEGIN:STANDARD
TZOFFSETFROM:-0400
TZOFFSETTO:-0500
TZNAME:EST
DTSTART:20251102T060000
END:STANDARD
BEGIN:DAYLIGHT
TZOFFSETFROM:-0500
TZOFFSETTO:-0400
TZNAME:EDT
DTSTART:20260308T070000
END:DAYLIGHT
BEGIN:STANDARD
TZOFFSETFROM:-0400
TZOFFSETTO:-0500
TZNAME:EST
DTSTART:20261101T060000
END:STANDARD
BEGIN:DAYLIGHT
TZOFFSETFROM:-0500
TZOFFSETTO:-0400
TZNAME:EDT
DTSTART:20270314T070000
END:DAYLIGHT
BEGIN:STANDARD
TZOFFSETFROM:-0400
TZOFFSETTO:-0500
TZNAME:EST
DTSTART:20271107T060000
END:STANDARD
END:VTIMEZONE
BEGIN:VEVENT
DTSTART;TZID=America/New_York:20260405T000000
DTEND;TZID=America/New_York:20260523T235959
DTSTAMP:20260419T162708
CREATED:20260124T202445Z
LAST-MODIFIED:20260124T202445Z
UID:611-1775347200-1779580799@www.ridgewoodpc.org
SUMMARY:The Season of Easter
DESCRIPTION:Easter isn’t just a Sunday — it’s a season. One day out of 365 is hardly sufficient to celebrate the great mystery of our faith — that Jesus Christ is risen from the dead. Accordingly\, the season of Easter lasts seven weeks (a “week of weeks”)\, spanning the 50 days from the Sunday of the Resurrection to Pentecost Sunday and encompassing the festival of the Ascension of the Lord. \nExcerpt taken from the Presbyterian Church USA website.
URL:https://www.ridgewoodpc.org/event/the-season-of-easter/
LOCATION:NY
CATEGORIES:Special Days
END:VEVENT
BEGIN:VEVENT
DTSTART;TZID=America/New_York:20260419T093000
DTEND;TZID=America/New_York:20260419T163000
DTSTAMP:20260419T162708
CREATED:20260303T042756Z
LAST-MODIFIED:20260303T042756Z
UID:1168-1776591000-1776616200@www.ridgewoodpc.org
SUMMARY:Feed the People
DESCRIPTION:Feed the People will be volunteering to feed the homeless and cooking meals for the homeless in our kitchen.
URL:https://www.ridgewoodpc.org/event/feed-the-people-38/
LOCATION:Ridgewood Presbyterian Church\, 59-14 70th Ave.\, Ridgewood\, NY\, 11385\, United States
CATEGORIES:Volunteer Programs
END:VEVENT
BEGIN:VEVENT
DTSTART;TZID=America/New_York:20260419T103000
DTEND;TZID=America/New_York:20260419T113000
DTSTAMP:20260419T162708
CREATED:20260303T041410Z
LAST-MODIFIED:20260303T041410Z
UID:1152-1776594600-1776598200@www.ridgewoodpc.org
SUMMARY:Sunday Worship Service
DESCRIPTION:Join us for our Sunday Worship Service in The Sanctuary of the Ridgewood Presbyterian Church every Sunday at 10:30AM. All are welcome.
URL:https://www.ridgewoodpc.org/event/sunday-worship-service-23/
LOCATION:Ridgewood Presbyterian Church\, 59-14 70th Ave.\, Ridgewood\, NY\, 11385\, United States
CATEGORIES:Worship Services
END:VEVENT
BEGIN:VEVENT
DTSTART;TZID=America/New_York:20260419T120000
DTEND;TZID=America/New_York:20260419T123000
DTSTAMP:20260419T162708
CREATED:20260304T031138Z
LAST-MODIFIED:20260304T031138Z
UID:1294-1776600000-1776601800@www.ridgewoodpc.org
SUMMARY:Meditation with Wickwood Aikido
DESCRIPTION:The Wickwood Aikido Dojo is committed to building a community with an all-inclusive environment for everyone of all levels of experience\, age\, orientation and walk of life. Classes are meant to push people’s mental and physical capacities while staying safe\, developing traditional martial arts skills and principles\, and learning how to put those principles to use in everyday life. D’Angelo Sensei is dedicated to providing a program focusing on technical excellence and\, with a background in Zen alongside his martial arts training\, offers the opportunity to look at Aikido practice as a method for training the mind in conjunction with the body. Classes include empty hand Aikido practice\, along with Bokken (wooden sword) and Jo (short staff) training.
URL:https://www.ridgewoodpc.org/event/meditation-with-wickwood-aikido-14/
LOCATION:Ridgewood Presbyterian Church\, 59-14 70th Ave.\, Ridgewood\, NY\, 11385\, United States
CATEGORIES:Health & Wellness Programs
ORGANIZER;CN="Wickwood Aikido":MAILTO:wickwoodaikido@gmail.com
END:VEVENT
BEGIN:VEVENT
DTSTART;TZID=America/New_York:20260419T123000
DTEND;TZID=America/New_York:20260419T133000
DTSTAMP:20260419T162708
CREATED:20260304T032536Z
LAST-MODIFIED:20260304T032536Z
UID:1313-1776601800-1776605400@www.ridgewoodpc.org
SUMMARY:Sword (Bokken)
DESCRIPTION:The Wickwood Aikido Dojo is committed to building a community with an all-inclusive environment for everyone of all levels of experience\, age\, orientation and walk of life. Classes are meant to push people’s mental and physical capacities while staying safe\, developing traditional martial arts skills and principles\, and learning how to put those principles to use in everyday life. D’Angelo Sensei is dedicated to providing a program focusing on technical excellence and\, with a background in Zen alongside his martial arts training\, offers the opportunity to look at Aikido practice as a method for training the mind in conjunction with the body. Classes include empty hand Aikido practice\, along with Bokken (wooden sword) and Jo (short staff) training.
URL:https://www.ridgewoodpc.org/event/sword-bokken-16/
LOCATION:Ridgewood Presbyterian Church\, 59-14 70th Ave.\, Ridgewood\, NY\, 11385\, United States
CATEGORIES:Health & Wellness Programs
ORGANIZER;CN="Wickwood Aikido":MAILTO:wickwoodaikido@gmail.com
END:VEVENT
BEGIN:VEVENT
DTSTART;TZID=America/New_York:20260419T133000
DTEND;TZID=America/New_York:20260419T150000
DTSTAMP:20260419T162708
CREATED:20260304T034353Z
LAST-MODIFIED:20260304T034353Z
UID:1334-1776605400-1776610800@www.ridgewoodpc.org
SUMMARY:Aikido All Levels
DESCRIPTION:The Wickwood Aikido Dojo is committed to building a community with an all-inclusive environment for everyone of all levels of experience\, age\, orientation and walk of life. Classes are meant to push people’s mental and physical capacities while staying safe\, developing traditional martial arts skills and principles\, and learning how to put those principles to use in everyday life. D’Angelo Sensei is dedicated to providing a program focusing on technical excellence and\, with a background in Zen alongside his martial arts training\, offers the opportunity to look at Aikido practice as a method for training the mind in conjunction with the body. Classes include empty hand Aikido practice\, along with Bokken (wooden sword) and Jo (short staff) training.
URL:https://www.ridgewoodpc.org/event/aikido-all-levels-16/
LOCATION:Ridgewood Presbyterian Church\, 59-14 70th Ave.\, Ridgewood\, NY\, 11385\, United States
CATEGORIES:Health & Wellness Programs
ORGANIZER;CN="Wickwood Aikido":MAILTO:wickwoodaikido@gmail.com
END:VEVENT
BEGIN:VEVENT
DTSTART;TZID=America/New_York:20260419T153000
DTEND;TZID=America/New_York:20260419T170000
DTSTAMP:20260419T162708
CREATED:20260304T040032Z
LAST-MODIFIED:20260304T040032Z
UID:1352-1776612600-1776618000@www.ridgewoodpc.org
SUMMARY:Brazilian Jiu-Jitsu
DESCRIPTION:The Wickwood Aikido Dojo is committed to building a community with an all-inclusive environment for everyone of all levels of experience\, age\, orientation and walk of life. Classes are meant to push people’s mental and physical capacities while staying safe\, developing traditional martial arts skills and principles\, and learning how to put those principles to use in everyday life. D’Angelo Sensei is dedicated to providing a program focusing on technical excellence and\, with a background in Zen alongside his martial arts training\, offers the opportunity to look at Aikido practice as a method for training the mind in conjunction with the body. Classes include empty hand Aikido practice\, along with Bokken (wooden sword) and Jo (short staff) training.
URL:https://www.ridgewoodpc.org/event/brazilian-jiu-jitsu-16/
LOCATION:Ridgewood Presbyterian Church\, 59-14 70th Ave.\, Ridgewood\, NY\, 11385\, United States
CATEGORIES:Health & Wellness Programs
ORGANIZER;CN="Wickwood Aikido":MAILTO:wickwoodaikido@gmail.com
END:VEVENT
END:VCALENDAR