BEGIN:VCALENDAR
VERSION:2.0
PRODID:-//Ridgewood Presbyterian Church - ECPv6.15.20//NONSGML v1.0//EN
CALSCALE:GREGORIAN
METHOD:PUBLISH
X-ORIGINAL-URL:https://www.ridgewoodpc.org
X-WR-CALDESC:Events for Ridgewood Presbyterian Church
REFRESH-INTERVAL;VALUE=DURATION:PT1H
X-Robots-Tag:noindex
X-PUBLISHED-TTL:PT1H
BEGIN:VTIMEZONE
TZID:America/New_York
BEGIN:DAYLIGHT
TZOFFSETFROM:-0500
TZOFFSETTO:-0400
TZNAME:EDT
DTSTART:20250309T070000
END:DAYLIGHT
BEGIN:STANDARD
TZOFFSETFROM:-0400
TZOFFSETTO:-0500
TZNAME:EST
DTSTART:20251102T060000
END:STANDARD
BEGIN:DAYLIGHT
TZOFFSETFROM:-0500
TZOFFSETTO:-0400
TZNAME:EDT
DTSTART:20260308T070000
END:DAYLIGHT
BEGIN:STANDARD
TZOFFSETFROM:-0400
TZOFFSETTO:-0500
TZNAME:EST
DTSTART:20261101T060000
END:STANDARD
BEGIN:DAYLIGHT
TZOFFSETFROM:-0500
TZOFFSETTO:-0400
TZNAME:EDT
DTSTART:20270314T070000
END:DAYLIGHT
BEGIN:STANDARD
TZOFFSETFROM:-0400
TZOFFSETTO:-0500
TZNAME:EST
DTSTART:20271107T060000
END:STANDARD
END:VTIMEZONE
BEGIN:VEVENT
DTSTART;TZID=America/New_York:20260615T190000
DTEND;TZID=America/New_York:20260615T213000
DTSTAMP:20260420T174010
CREATED:20260419T035005Z
LAST-MODIFIED:20260419T035005Z
UID:1870-1781550000-1781559000@www.ridgewoodpc.org
SUMMARY:Hello Choir Practice
DESCRIPTION:Hello Choir is a community choir that has one simple goal: getting together to sing to experience the joy of singing… together!
URL:https://www.ridgewoodpc.org/event/hello-choir-practice-28/
LOCATION:Ridgewood Presbyterian Church\, 59-14 70th Ave.\, Ridgewood\, NY\, 11385\, United States
CATEGORIES:Art and Culture Programs
END:VEVENT
BEGIN:VEVENT
DTSTART;TZID=America/New_York:20260622T190000
DTEND;TZID=America/New_York:20260622T213000
DTSTAMP:20260420T174010
CREATED:20260419T035121Z
LAST-MODIFIED:20260419T035121Z
UID:1872-1782154800-1782163800@www.ridgewoodpc.org
SUMMARY:Hello Choir Practice
DESCRIPTION:Hello Choir is a community choir that has one simple goal: getting together to sing to experience the joy of singing… together!
URL:https://www.ridgewoodpc.org/event/hello-choir-practice-29/
LOCATION:Ridgewood Presbyterian Church\, 59-14 70th Ave.\, Ridgewood\, NY\, 11385\, United States
CATEGORIES:Art and Culture Programs
END:VEVENT
BEGIN:VEVENT
DTSTART;TZID=America/New_York:20260624T190000
DTEND;TZID=America/New_York:20260624T210000
DTSTAMP:20260420T174010
CREATED:20260419T045140Z
LAST-MODIFIED:20260419T051228Z
UID:1937-1782327600-1782334800@www.ridgewoodpc.org
SUMMARY:Figure Drawing
DESCRIPTION:Enjoy life drawing in a gorgeous church sanctuary. No experience necessary. These sessions do not include formal instruction; participants are encouraged to relax\, have fun\, and draw a variety of poses from a live nude model. Whether you’re a beginner or a working artist\, this is a chance to get your eyes off screens and decompress in a creative environment. \nMaterials: Basic materials (drawing boards\, newsprint\, charcoal\, and oil pastels) will be provided. Feel free to bring your own supplies.
URL:https://www.ridgewoodpc.org/event/figure-drawing-12/
LOCATION:Ridgewood Presbyterian Church\, 59-14 70th Ave.\, Ridgewood\, NY\, 11385\, United States
CATEGORIES:Art and Culture Programs
ORGANIZER;CN="Tiny Arts Supply":MAILTO:tinyartssupply@gmail.com
END:VEVENT
BEGIN:VEVENT
DTSTART;TZID=America/New_York:20260629T190000
DTEND;TZID=America/New_York:20260629T213000
DTSTAMP:20260420T174010
CREATED:20260419T035235Z
LAST-MODIFIED:20260419T035235Z
UID:1874-1782759600-1782768600@www.ridgewoodpc.org
SUMMARY:Hello Choir Practice
DESCRIPTION:Hello Choir is a community choir that has one simple goal: getting together to sing to experience the joy of singing… together!
URL:https://www.ridgewoodpc.org/event/hello-choir-practice-30/
LOCATION:Ridgewood Presbyterian Church\, 59-14 70th Ave.\, Ridgewood\, NY\, 11385\, United States
CATEGORIES:Art and Culture Programs
END:VEVENT
BEGIN:VEVENT
DTSTART;TZID=America/New_York:20260706T190000
DTEND;TZID=America/New_York:20260706T213000
DTSTAMP:20260420T174010
CREATED:20260419T035423Z
LAST-MODIFIED:20260419T035423Z
UID:1876-1783364400-1783373400@www.ridgewoodpc.org
SUMMARY:Hello Choir Practice
DESCRIPTION:Hello Choir is a community choir that has one simple goal: getting together to sing to experience the joy of singing… together!
URL:https://www.ridgewoodpc.org/event/hello-choir-practice-31/
LOCATION:Ridgewood Presbyterian Church\, 59-14 70th Ave.\, Ridgewood\, NY\, 11385\, United States
CATEGORIES:Art and Culture Programs
END:VEVENT
BEGIN:VEVENT
DTSTART;TZID=America/New_York:20260708T190000
DTEND;TZID=America/New_York:20260708T210000
DTSTAMP:20260420T174010
CREATED:20260419T045246Z
LAST-MODIFIED:20260419T045246Z
UID:1939-1783537200-1783544400@www.ridgewoodpc.org
SUMMARY:Figure Drawing
DESCRIPTION:Enjoy life drawing in a gorgeous church sanctuary. No experience necessary. These sessions do not include formal instruction; participants are encouraged to relax\, have fun\, and draw a variety of poses from a live nude model. Whether you’re a beginner or a working artist\, this is a chance to get your eyes off screens and decompress in a creative environment. \nMaterials: Basic materials (drawing boards\, newsprint\, charcoal\, and oil pastels) will be provided. Feel free to bring your own supplies.
URL:https://www.ridgewoodpc.org/event/figure-drawing-13/
LOCATION:Ridgewood Presbyterian Church\, 59-14 70th Ave.\, Ridgewood\, NY\, 11385\, United States
CATEGORIES:Art and Culture Programs
ORGANIZER;CN="Tiny Arts Supply":MAILTO:tinyartssupply@gmail.com
END:VEVENT
BEGIN:VEVENT
DTSTART;TZID=America/New_York:20260713T190000
DTEND;TZID=America/New_York:20260713T213000
DTSTAMP:20260420T174010
CREATED:20260419T035535Z
LAST-MODIFIED:20260419T035535Z
UID:1878-1783969200-1783978200@www.ridgewoodpc.org
SUMMARY:Hello Choir Practice
DESCRIPTION:Hello Choir is a community choir that has one simple goal: getting together to sing to experience the joy of singing… together!
URL:https://www.ridgewoodpc.org/event/hello-choir-practice-32/
LOCATION:Ridgewood Presbyterian Church\, 59-14 70th Ave.\, Ridgewood\, NY\, 11385\, United States
CATEGORIES:Art and Culture Programs
END:VEVENT
BEGIN:VEVENT
DTSTART;TZID=America/New_York:20260720T190000
DTEND;TZID=America/New_York:20260720T213000
DTSTAMP:20260420T174010
CREATED:20260419T035644Z
LAST-MODIFIED:20260419T035644Z
UID:1880-1784574000-1784583000@www.ridgewoodpc.org
SUMMARY:Hello Choir Practice
DESCRIPTION:Hello Choir is a community choir that has one simple goal: getting together to sing to experience the joy of singing… together!
URL:https://www.ridgewoodpc.org/event/hello-choir-practice-33/
LOCATION:Ridgewood Presbyterian Church\, 59-14 70th Ave.\, Ridgewood\, NY\, 11385\, United States
CATEGORIES:Art and Culture Programs
END:VEVENT
BEGIN:VEVENT
DTSTART;TZID=America/New_York:20260722T190000
DTEND;TZID=America/New_York:20260722T210000
DTSTAMP:20260420T174010
CREATED:20260419T045350Z
LAST-MODIFIED:20260419T045350Z
UID:1941-1784746800-1784754000@www.ridgewoodpc.org
SUMMARY:Figure Drawing
DESCRIPTION:Enjoy life drawing in a gorgeous church sanctuary. No experience necessary. These sessions do not include formal instruction; participants are encouraged to relax\, have fun\, and draw a variety of poses from a live nude model. Whether you’re a beginner or a working artist\, this is a chance to get your eyes off screens and decompress in a creative environment. \nMaterials: Basic materials (drawing boards\, newsprint\, charcoal\, and oil pastels) will be provided. Feel free to bring your own supplies.
URL:https://www.ridgewoodpc.org/event/figure-drawing-14/
LOCATION:Ridgewood Presbyterian Church\, 59-14 70th Ave.\, Ridgewood\, NY\, 11385\, United States
CATEGORIES:Art and Culture Programs
ORGANIZER;CN="Tiny Arts Supply":MAILTO:tinyartssupply@gmail.com
END:VEVENT
BEGIN:VEVENT
DTSTART;TZID=America/New_York:20260727T190000
DTEND;TZID=America/New_York:20260727T213000
DTSTAMP:20260420T174010
CREATED:20260419T035802Z
LAST-MODIFIED:20260419T035802Z
UID:1882-1785178800-1785187800@www.ridgewoodpc.org
SUMMARY:Hello Choir Practice
DESCRIPTION:Hello Choir is a community choir that has one simple goal: getting together to sing to experience the joy of singing… together!
URL:https://www.ridgewoodpc.org/event/hello-choir-practice-34/
LOCATION:Ridgewood Presbyterian Church\, 59-14 70th Ave.\, Ridgewood\, NY\, 11385\, United States
CATEGORIES:Art and Culture Programs
END:VEVENT
END:VCALENDAR