BEGIN:VCALENDAR
VERSION:2.0
PRODID:-//Ridgewood Presbyterian Church - ECPv6.15.20//NONSGML v1.0//EN
CALSCALE:GREGORIAN
METHOD:PUBLISH
X-WR-CALNAME:Ridgewood Presbyterian Church
X-ORIGINAL-URL:https://www.ridgewoodpc.org
X-WR-CALDESC:Events for Ridgewood Presbyterian Church
REFRESH-INTERVAL;VALUE=DURATION:PT1H
X-Robots-Tag:noindex
X-PUBLISHED-TTL:PT1H
BEGIN:VTIMEZONE
TZID:America/New_York
BEGIN:DAYLIGHT
TZOFFSETFROM:-0500
TZOFFSETTO:-0400
TZNAME:EDT
DTSTART:20240310T070000
END:DAYLIGHT
BEGIN:STANDARD
TZOFFSETFROM:-0400
TZOFFSETTO:-0500
TZNAME:EST
DTSTART:20241103T060000
END:STANDARD
BEGIN:DAYLIGHT
TZOFFSETFROM:-0500
TZOFFSETTO:-0400
TZNAME:EDT
DTSTART:20250309T070000
END:DAYLIGHT
BEGIN:STANDARD
TZOFFSETFROM:-0400
TZOFFSETTO:-0500
TZNAME:EST
DTSTART:20251102T060000
END:STANDARD
BEGIN:DAYLIGHT
TZOFFSETFROM:-0500
TZOFFSETTO:-0400
TZNAME:EDT
DTSTART:20260308T070000
END:DAYLIGHT
BEGIN:STANDARD
TZOFFSETFROM:-0400
TZOFFSETTO:-0500
TZNAME:EST
DTSTART:20261101T060000
END:STANDARD
BEGIN:DAYLIGHT
TZOFFSETFROM:-0500
TZOFFSETTO:-0400
TZNAME:EDT
DTSTART:20270314T070000
END:DAYLIGHT
BEGIN:STANDARD
TZOFFSETFROM:-0400
TZOFFSETTO:-0500
TZNAME:EST
DTSTART:20271107T060000
END:STANDARD
END:VTIMEZONE
BEGIN:VEVENT
DTSTART;TZID=America/New_York:20260418T093000
DTEND;TZID=America/New_York:20260418T163000
DTSTAMP:20260419T104705
CREATED:20260303T042002Z
LAST-MODIFIED:20260303T042002Z
UID:1160-1776504600-1776529800@www.ridgewoodpc.org
SUMMARY:Feed the People
DESCRIPTION:Feed the People will be volunteering to feed the homeless and cooking meals for the homeless in our kitchen.
URL:https://www.ridgewoodpc.org/event/feed-the-people-34/
LOCATION:Ridgewood Presbyterian Church\, 59-14 70th Ave.\, Ridgewood\, NY\, 11385\, United States
CATEGORIES:Volunteer Programs
END:VEVENT
BEGIN:VEVENT
DTSTART;TZID=America/New_York:20260411T093000
DTEND;TZID=America/New_York:20260411T163000
DTSTAMP:20260419T104705
CREATED:20260303T041843Z
LAST-MODIFIED:20260303T041843Z
UID:1158-1775899800-1775925000@www.ridgewoodpc.org
SUMMARY:Feed The People
DESCRIPTION:Feed the People will be volunteering to feed the homeless and cooking meals for the homeless in our kitchen.
URL:https://www.ridgewoodpc.org/event/feed-the-people-33/
LOCATION:Ridgewood Presbyterian Church\, 59-14 70th Ave.\, Ridgewood\, NY\, 11385\, United States
CATEGORIES:Volunteer Programs
END:VEVENT
BEGIN:VEVENT
DTSTART;TZID=America/New_York:20260405T093000
DTEND;TZID=America/New_York:20260405T163000
DTSTAMP:20260419T104705
CREATED:20260303T042642Z
LAST-MODIFIED:20260303T042642Z
UID:1166-1775381400-1775406600@www.ridgewoodpc.org
SUMMARY:Feed the People
DESCRIPTION:Feed the People will be volunteering to feed the homeless and cooking meals for the homeless in our kitchen.
URL:https://www.ridgewoodpc.org/event/feed-the-people-37/
LOCATION:Ridgewood Presbyterian Church\, 59-14 70th Ave.\, Ridgewood\, NY\, 11385\, United States
CATEGORIES:Volunteer Programs
END:VEVENT
BEGIN:VEVENT
DTSTART;TZID=America/New_York:20260404T093000
DTEND;TZID=America/New_York:20260404T163000
DTSTAMP:20260419T104705
CREATED:20260224T043946Z
LAST-MODIFIED:20260224T043946Z
UID:949-1775295000-1775320200@www.ridgewoodpc.org
SUMMARY:Feed the People
DESCRIPTION:Feed the People will be volunteering to feed the homeless and cooking meals for the homeless in our kitchen.
URL:https://www.ridgewoodpc.org/event/feed-the-people-30/
LOCATION:Ridgewood Presbyterian Church\, 59-14 70th Ave.\, Ridgewood\, NY\, 11385\, United States
CATEGORIES:Volunteer Programs
END:VEVENT
BEGIN:VEVENT
DTSTART;TZID=America/New_York:20260328T093000
DTEND;TZID=America/New_York:20260328T163000
DTSTAMP:20260419T104705
CREATED:20260224T044124Z
LAST-MODIFIED:20260224T044124Z
UID:951-1774690200-1774715400@www.ridgewoodpc.org
SUMMARY:Feed the People
DESCRIPTION:Feed the People will be volunteering to feed the homeless and cooking meals for the homeless in our kitchen.
URL:https://www.ridgewoodpc.org/event/feed-the-people-31/
LOCATION:Ridgewood Presbyterian Church\, 59-14 70th Ave.\, Ridgewood\, NY\, 11385\, United States
CATEGORIES:Volunteer Programs
END:VEVENT
BEGIN:VEVENT
DTSTART;TZID=America/New_York:20260322T093000
DTEND;TZID=America/New_York:20260322T163000
DTSTAMP:20260419T104705
CREATED:20260224T043624Z
LAST-MODIFIED:20260224T044539Z
UID:947-1774171800-1774197000@www.ridgewoodpc.org
SUMMARY:Feed the People
DESCRIPTION:Feed the People will be volunteering to feed the homeless and cooking meals for the homeless in our kitchen.
URL:https://www.ridgewoodpc.org/event/feed-the-people-14/
LOCATION:Ridgewood Presbyterian Church\, 59-14 70th Ave.\, Ridgewood\, NY\, 11385\, United States
CATEGORIES:Volunteer Programs
END:VEVENT
BEGIN:VEVENT
DTSTART;TZID=America/New_York:20260321T093000
DTEND;TZID=America/New_York:20260321T163000
DTSTAMP:20260419T104705
CREATED:20260224T043421Z
LAST-MODIFIED:20260224T043421Z
UID:945-1774085400-1774110600@www.ridgewoodpc.org
SUMMARY:Feed the People
DESCRIPTION:Feed the People will be volunteering to feed the homeless and cooking meals for the homeless in our kitchen.
URL:https://www.ridgewoodpc.org/event/feed-the-people-10/
LOCATION:Ridgewood Presbyterian Church\, 59-14 70th Ave.\, Ridgewood\, NY\, 11385\, United States
CATEGORIES:Volunteer Programs
END:VEVENT
BEGIN:VEVENT
DTSTART;TZID=America/New_York:20260314T093000
DTEND;TZID=America/New_York:20260314T163000
DTSTAMP:20260419T104705
CREATED:20260224T043233Z
LAST-MODIFIED:20260224T051343Z
UID:943-1773480600-1773505800@www.ridgewoodpc.org
SUMMARY:Feed the People
DESCRIPTION:Feed the People will be volunteering to feed the homeless and cooking meals for the homeless in our kitchen.
URL:https://www.ridgewoodpc.org/event/fee-the-people/
LOCATION:Ridgewood Presbyterian Church\, 59-14 70th Ave.\, Ridgewood\, NY\, 11385\, United States
CATEGORIES:Volunteer Programs
END:VEVENT
BEGIN:VEVENT
DTSTART;TZID=America/New_York:20260308T093000
DTEND;TZID=America/New_York:20260308T163000
DTSTAMP:20260419T104705
CREATED:20260224T044328Z
LAST-MODIFIED:20260224T044328Z
UID:953-1772962200-1772987400@www.ridgewoodpc.org
SUMMARY:Feed the People
DESCRIPTION:Feed the People will be volunteering to feed the homeless and cooking meals for the homeless in our kitchen.
URL:https://www.ridgewoodpc.org/event/feed-the-people-32/
LOCATION:Ridgewood Presbyterian Church\, 59-14 70th Ave.\, Ridgewood\, NY\, 11385\, United States
CATEGORIES:Volunteer Programs
END:VEVENT
BEGIN:VEVENT
DTSTART;TZID=America/New_York:20260307T093000
DTEND;TZID=America/New_York:20260307T163000
DTSTAMP:20260419T104705
CREATED:20260224T043006Z
LAST-MODIFIED:20260224T043006Z
UID:940-1772875800-1772901000@www.ridgewoodpc.org
SUMMARY:Feed the People
DESCRIPTION:Feed the People will be volunteering to feed the homeless and cooking meals for the homeless in our kitchen.
URL:https://www.ridgewoodpc.org/event/feed-the-people-2/
LOCATION:Ridgewood Presbyterian Church\, 59-14 70th Ave.\, Ridgewood\, NY\, 11385\, United States
CATEGORIES:Volunteer Programs
END:VEVENT
BEGIN:VEVENT
DTSTART;TZID=America/New_York:20260228T093000
DTEND;TZID=America/New_York:20260228T163000
DTSTAMP:20260419T104705
CREATED:20260124T184851Z
LAST-MODIFIED:20260124T184851Z
UID:569-1772271000-1772296200@www.ridgewoodpc.org
SUMMARY:Feed the People
DESCRIPTION:Feed the People will be volunteering to feed the homeless and cooking meals for the homeless in our kitchen.
URL:https://www.ridgewoodpc.org/event/feed-the-people-27/
LOCATION:Ridgewood Presbyterian Church\, 59-14 70th Ave.\, Ridgewood\, NY\, 11385\, United States
CATEGORIES:Volunteer Programs
END:VEVENT
BEGIN:VEVENT
DTSTART;TZID=America/New_York:20260222T093000
DTEND;TZID=America/New_York:20260222T163000
DTSTAMP:20260419T104705
CREATED:20260124T185246Z
LAST-MODIFIED:20260124T185246Z
UID:573-1771752600-1771777800@www.ridgewoodpc.org
SUMMARY:Feed the People
DESCRIPTION:Feed the People will be volunteering to feed the homeless and cooking meals for the homeless in our kitchen.
URL:https://www.ridgewoodpc.org/event/feed-the-people-29/
LOCATION:Ridgewood Presbyterian Church\, 59-14 70th Ave.\, Ridgewood\, NY\, 11385\, United States
CATEGORIES:Volunteer Programs
END:VEVENT
BEGIN:VEVENT
DTSTART;TZID=America/New_York:20260221T093000
DTEND;TZID=America/New_York:20260221T163000
DTSTAMP:20260419T104705
CREATED:20260124T184711Z
LAST-MODIFIED:20260124T184711Z
UID:567-1771666200-1771691400@www.ridgewoodpc.org
SUMMARY:Feed the People
DESCRIPTION:Feed the People will be volunteering to feed the homeless and cooking meals for the homeless in our kitchen.
URL:https://www.ridgewoodpc.org/event/feed-the-people-26/
LOCATION:Ridgewood Presbyterian Church\, 59-14 70th Ave.\, Ridgewood\, NY\, 11385\, United States
CATEGORIES:Volunteer Programs
END:VEVENT
BEGIN:VEVENT
DTSTART;TZID=America/New_York:20260214T093000
DTEND;TZID=America/New_York:20260214T163000
DTSTAMP:20260419T104705
CREATED:20260124T184545Z
LAST-MODIFIED:20260124T184545Z
UID:565-1771061400-1771086600@www.ridgewoodpc.org
SUMMARY:Feed the People
DESCRIPTION:Feed the People will be volunteering to feed the homeless and cooking meals for the homeless in our kitchen.
URL:https://www.ridgewoodpc.org/event/feed-the-people-20/
LOCATION:Ridgewood Presbyterian Church\, 59-14 70th Ave.\, Ridgewood\, NY\, 11385\, United States
CATEGORIES:Volunteer Programs
END:VEVENT
BEGIN:VEVENT
DTSTART;TZID=America/New_York:20260208T093000
DTEND;TZID=America/New_York:20260208T163000
DTSTAMP:20260419T104705
CREATED:20260124T185033Z
LAST-MODIFIED:20260124T185033Z
UID:571-1770543000-1770568200@www.ridgewoodpc.org
SUMMARY:Feed the People
DESCRIPTION:Feed the People will be volunteering to feed the homeless and cooking meals for the homeless in our kitchen.
URL:https://www.ridgewoodpc.org/event/feed-the-people-28/
LOCATION:Ridgewood Presbyterian Church\, 59-14 70th Ave.\, Ridgewood\, NY\, 11385\, United States
CATEGORIES:Volunteer Programs
END:VEVENT
BEGIN:VEVENT
DTSTART;TZID=America/New_York:20260207T093000
DTEND;TZID=America/New_York:20260207T163000
DTSTAMP:20260419T104705
CREATED:20260124T184407Z
LAST-MODIFIED:20260124T184407Z
UID:563-1770456600-1770481800@www.ridgewoodpc.org
SUMMARY:Feed the People
DESCRIPTION:Feed the People will be volunteering to feed the homeless and cooking meals for the homeless in our kitchen.
URL:https://www.ridgewoodpc.org/event/feed-the-people-18/
LOCATION:Ridgewood Presbyterian Church\, 59-14 70th Ave.\, Ridgewood\, NY\, 11385\, United States
CATEGORIES:Volunteer Programs
END:VEVENT
BEGIN:VEVENT
DTSTART;TZID=America/New_York:20260131T093000
DTEND;TZID=America/New_York:20260131T163000
DTSTAMP:20260419T104705
CREATED:20251207T022813Z
LAST-MODIFIED:20260117T212642Z
UID:376-1769851800-1769877000@www.ridgewoodpc.org
SUMMARY:Feed the People
DESCRIPTION:Feed the People will be volunteering to feed the homeless and cooking meals for the homeless in our kitchen.
URL:https://www.ridgewoodpc.org/event/feed-the-people-25/
LOCATION:Ridgewood Presbyterian Church\, 59-14 70th Ave.\, Ridgewood\, NY\, 11385\, United States
CATEGORIES:Volunteer Programs
END:VEVENT
BEGIN:VEVENT
DTSTART;TZID=America/New_York:20260125T093000
DTEND;TZID=America/New_York:20260125T163000
DTSTAMP:20260419T104705
CREATED:20251207T021559Z
LAST-MODIFIED:20251207T021559Z
UID:362-1769333400-1769358600@www.ridgewoodpc.org
SUMMARY:Feed the People
DESCRIPTION:Feed the People will be volunteering to feed the homeless and cooking meals for the homeless in our kitchen.
URL:https://www.ridgewoodpc.org/event/feed-the-people-19/
LOCATION:Ridgewood Presbyterian Church\, 59-14 70th Ave.\, Ridgewood\, NY\, 11385\, United States
CATEGORIES:Volunteer Programs
END:VEVENT
BEGIN:VEVENT
DTSTART;TZID=America/New_York:20260124T093000
DTEND;TZID=America/New_York:20260124T163000
DTSTAMP:20260419T104705
CREATED:20251207T022620Z
LAST-MODIFIED:20260117T212920Z
UID:374-1769247000-1769272200@www.ridgewoodpc.org
SUMMARY:Feed the People
DESCRIPTION:Feed the People will be volunteering to feed the homeless and cooking meals for the homeless in our kitchen.
URL:https://www.ridgewoodpc.org/event/feed-the-people-24/
LOCATION:Ridgewood Presbyterian Church\, 59-14 70th Ave.\, Ridgewood\, NY\, 11385\, United States
CATEGORIES:Volunteer Programs
END:VEVENT
BEGIN:VEVENT
DTSTART;TZID=America/New_York:20260117T093000
DTEND;TZID=America/New_York:20260117T163000
DTSTAMP:20260419T104705
CREATED:20251207T022442Z
LAST-MODIFIED:20251207T022442Z
UID:372-1768642200-1768667400@www.ridgewoodpc.org
SUMMARY:Feed the People
DESCRIPTION:Feed the People will be volunteering to feed the homeless and cooking meals for the homeless in our kitchen.
URL:https://www.ridgewoodpc.org/event/feed-the-people-23/
LOCATION:Ridgewood Presbyterian Church\, 59-14 70th Ave.\, Ridgewood\, NY\, 11385\, United States
CATEGORIES:Volunteer Programs
END:VEVENT
BEGIN:VEVENT
DTSTART;TZID=America/New_York:20260111T093000
DTEND;TZID=America/New_York:20260111T163000
DTSTAMP:20260419T104705
CREATED:20251207T021220Z
LAST-MODIFIED:20251207T021220Z
UID:357-1768123800-1768149000@www.ridgewoodpc.org
SUMMARY:Feed the People
DESCRIPTION:Feed the People will be volunteering to feed the homeless and cooking meals for the homeless in our kitchen.
URL:https://www.ridgewoodpc.org/event/feed-the-people-17/
LOCATION:Ridgewood Presbyterian Church\, 59-14 70th Ave.\, Ridgewood\, NY\, 11385\, United States
CATEGORIES:Volunteer Programs
END:VEVENT
BEGIN:VEVENT
DTSTART;TZID=America/New_York:20260103T093000
DTEND;TZID=America/New_York:20260103T163000
DTSTAMP:20260419T104705
CREATED:20251207T022136Z
LAST-MODIFIED:20251207T022136Z
UID:367-1767432600-1767457800@www.ridgewoodpc.org
SUMMARY:Feed the People
DESCRIPTION:Feed the People will be volunteering to feed the homeless and cooking meals for the homeless in our kitchen.
URL:https://www.ridgewoodpc.org/event/feed-the-people-21/
LOCATION:Ridgewood Presbyterian Church\, 59-14 70th Ave.\, Ridgewood\, NY\, 11385\, United States
CATEGORIES:Volunteer Programs
END:VEVENT
BEGIN:VEVENT
DTSTART;TZID=America/New_York:20251228T093000
DTEND;TZID=America/New_York:20251228T163000
DTSTAMP:20260419T104705
CREATED:20251203T054929Z
LAST-MODIFIED:20251203T054929Z
UID:214-1766914200-1766939400@www.ridgewoodpc.org
SUMMARY:Feed the People
DESCRIPTION:Feed the People will be volunteering to feed the homeless and cooking meals for the homeless in our kitchen.
URL:https://www.ridgewoodpc.org/event/feed-the-people-16/
LOCATION:Ridgewood Presbyterian Church\, 59-14 70th Ave.\, Ridgewood\, NY\, 11385\, United States
CATEGORIES:Volunteer Programs
END:VEVENT
BEGIN:VEVENT
DTSTART;TZID=America/New_York:20251227T093000
DTEND;TZID=America/New_York:20251227T163000
DTSTAMP:20260419T104705
CREATED:20251203T054613Z
LAST-MODIFIED:20251203T054613Z
UID:212-1766827800-1766853000@www.ridgewoodpc.org
SUMMARY:Feed the People
DESCRIPTION:Feed the People will be volunteering to feed the homeless and cooking meals for the homeless in our kitchen. \n 
URL:https://www.ridgewoodpc.org/event/feed-the-people-15/
LOCATION:Ridgewood Presbyterian Church\, 59-14 70th Ave.\, Ridgewood\, NY\, 11385\, United States
CATEGORIES:Volunteer Programs
END:VEVENT
BEGIN:VEVENT
DTSTART;TZID=America/New_York:20251220T093000
DTEND;TZID=America/New_York:20251220T163000
DTSTAMP:20260419T104705
CREATED:20251203T054022Z
LAST-MODIFIED:20251203T054022Z
UID:207-1766223000-1766248200@www.ridgewoodpc.org
SUMMARY:Feed the People
DESCRIPTION:Feed the People will be volunteering to feed the homeless and cooking meals for the homeless in our kitchen.
URL:https://www.ridgewoodpc.org/event/feed-the-people-13/
LOCATION:Ridgewood Presbyterian Church\, 59-14 70th Ave.\, Ridgewood\, NY\, 11385\, United States
CATEGORIES:Volunteer Programs
END:VEVENT
BEGIN:VEVENT
DTSTART;TZID=America/New_York:20251214T093000
DTEND;TZID=America/New_York:20251214T163000
DTSTAMP:20260419T104705
CREATED:20251203T053748Z
LAST-MODIFIED:20251203T053748Z
UID:205-1765704600-1765729800@www.ridgewoodpc.org
SUMMARY:Feed the People
DESCRIPTION:Feed the People will be volunteering to feed the homeless and cooking meals for the homeless in our kitchen.
URL:https://www.ridgewoodpc.org/event/feed-the-people-12/
LOCATION:Ridgewood Presbyterian Church\, 59-14 70th Ave.\, Ridgewood\, NY\, 11385\, United States
CATEGORIES:Volunteer Programs
END:VEVENT
BEGIN:VEVENT
DTSTART;TZID=America/New_York:20251213T093000
DTEND;TZID=America/New_York:20251213T163000
DTSTAMP:20260419T104705
CREATED:20251203T053540Z
LAST-MODIFIED:20251203T053540Z
UID:203-1765618200-1765643400@www.ridgewoodpc.org
SUMMARY:Feed the People
DESCRIPTION:Feed the People will be volunteering to feed the homeless and cooking meals for the homeless in our kitchen.
URL:https://www.ridgewoodpc.org/event/feed-the-people-11/
LOCATION:Ridgewood Presbyterian Church\, 59-14 70th Ave.\, Ridgewood\, NY\, 11385\, United States
CATEGORIES:Volunteer Programs
END:VEVENT
BEGIN:VEVENT
DTSTART;TZID=America/New_York:20251206T093000
DTEND;TZID=America/New_York:20251206T163000
DTSTAMP:20260419T104705
CREATED:20251203T052913Z
LAST-MODIFIED:20251203T052913Z
UID:199-1765013400-1765038600@www.ridgewoodpc.org
SUMMARY:Feed the People
DESCRIPTION:Feed the People will be volunteering to feed the homeless and cooking meals for the homeless in our kitchen.
URL:https://www.ridgewoodpc.org/event/feed-the-people-9/
LOCATION:Ridgewood Presbyterian Church\, 59-14 70th Ave.\, Ridgewood\, NY\, 11385\, United States
CATEGORIES:Volunteer Programs
END:VEVENT
BEGIN:VEVENT
DTSTART;TZID=America/New_York:20251130T093000
DTEND;TZID=America/New_York:20251130T163000
DTSTAMP:20260419T104705
CREATED:20251117T044926Z
LAST-MODIFIED:20251117T044926Z
UID:139-1764495000-1764520200@www.ridgewoodpc.org
SUMMARY:Feed the People
DESCRIPTION:Feed the People will be volunteering to feed the homeless and cooking meals for the homeless in our kitchen.
URL:https://www.ridgewoodpc.org/event/feed-the-people-4/
LOCATION:Ridgewood Presbyterian Church\, 59-14 70th Ave.\, Ridgewood\, NY\, 11385\, United States
CATEGORIES:Volunteer Programs
END:VEVENT
BEGIN:VEVENT
DTSTART;TZID=America/New_York:20251129T093000
DTEND;TZID=America/New_York:20251129T163000
DTSTAMP:20260419T104705
CREATED:20251117T044629Z
LAST-MODIFIED:20251117T044629Z
UID:137-1764408600-1764433800@www.ridgewoodpc.org
SUMMARY:Feed the People
DESCRIPTION:Feed the People will be volunteering to feed the homeless and cooking meals for the homeless in our kitchen.
URL:https://www.ridgewoodpc.org/event/feed-the-people-3/
LOCATION:Ridgewood Presbyterian Church\, 59-14 70th Ave.\, Ridgewood\, NY\, 11385\, United States
CATEGORIES:Volunteer Programs
END:VEVENT
END:VCALENDAR